Workbook

Sheet 年轻干部竞争上岗面试成绩及综合成绩公示表
A1: 附件
A2: 云南省煤炭产业（云南煤化）集团有限公司党委管理年轻干部竞争上岗面试成绩及综合成绩公示表
A4: 序号 | B4: 竞争上岗岗位 | C4: 姓名 | D4: 笔试成绩（A） | E4: 面试成绩（B） | F4: 综合成绩(C) （C=A*40%+B*60%） | G4: 备注
A5: 1 | B5: 云南煤化工应用技术研究院有限公司副总经理 | C5: 李东辉 | D5: 58 | E5: =VLOOKUP(C5,[1]面试成绩统计表!$C$5:$M$26,11,0) -> 84.42 | F5: =ROUND(D5*0.4+E5*0.6,2) -> 73.85
C6: 伍小平 | D6: 60 | E6: =VLOOKUP(C6,[1]面试成绩统计表!$C$5:$M$26,11,0) -> 78.6 | F6: =ROUND(D6*0.4+E6*0.6,2) -> 71.16
C7: 陈政江 | D7: 66.5 | E7: =VLOOKUP(C7,[1]面试成绩统计表!$C$5:$M$26,11,0) -> 0 | F7: 26.6 | G7: 面试缺考
A8: 2 | B8: 云南后所煤矿有限公司副总经理 | C8: 赵冲红 | D8: 69 | E8: =VLOOKUP(C8,[1]面试成绩统计表!$C$5:$M$26,11,0) -> 69.2 | F8: =ROUND(D8*0.4+E8*0.6,2) -> 69.12
C9: 潘为举 | D9: 64 | E9: =VLOOKUP(C9,[1]面试成绩统计表!$C$5:$M$26,11,0) -> 71.2 | F9: =ROUND(D9*0.4+E9*0.6,2) -> 68.32
C10: 问志祥 | D10: 60.5 | E10: =VLOOKUP(C10,[1]面试成绩统计表!$C$5:$M$26,11,0) -> 54.6 | F10: =ROUND(D10*0.4+E10*0.6,2) -> 56.96
A11: 3 | B11: 云南东源镇雄煤业有限公司副总经理 | C11: 梁银权 | D11: 72 | E11: =VLOOKUP(C11,[1]面试成绩统计表!$C$5:$M$26,11,0) -> 88.6 | F11: =ROUND(D11*0.4+E11*0.6,2) -> 81.96
C12: 翟红胜 | D12: 69 | E12: =VLOOKUP(C12,[1]面试成绩统计表!$C$5:$M$26,11,0) -> 85.2 | F12: =ROUND(D12*0.4+E12*0.6,2) -> 78.72
C13: 罗龙 | D13: 59 | E13: =VLOOKUP(C13,[1]面试成绩统计表!$C$5:$M$26,11,0) -> 82.3 | F13: =ROUND(D13*0.4+E13*0.6,2) -> 72.98
A14: 4 | B14: 云南先锋煤业开发有限公司副总经理 | C14: 邢克兵 | D14: 69 | E14: =VLOOKUP(C14,[1]面试成绩统计表!$C$5:$M$26,11,0) -> 82.4 | F14: =ROUND(D14*0.4+E14*0.6,2) -> 77.04
C15: 肖建雄 | D15: 59.5 | E15: =VLOOKUP(C15,[1]面试成绩统计表!$C$5:$M$26,11,0) -> 88.4 | F15: =ROUND(D15*0.4+E15*0.6,2) -> 76.84
C16: 王俊凯 | D16: 59.5 | E16: =VLOOKUP(C16,[1]面试成绩统计表!$C$5:$M$26,11,0) -> 85.4 | F16: =ROUND(D16*0.4+E16*0.6,2) -> 75.04
C17: 宛皓 | D17: 68 | E17: =VLOOKUP(C17,[1]面试成绩统计表!$C$5:$M$26,11,0) -> 79.4 | F17: =ROUND(D17*0.4+E17*0.6,2) -> 74.84
A18: 5 | B18: 云南东源罗平东城煤矿有限公司 副总经理 | C18: 代辉 | D18: 68 | E18: =VLOOKUP(C18,[1]面试成绩统计表!$C$5:$M$26,11,0) -> 83.8 | F18: =ROUND(D18*0.4+E18*0.6,2) -> 77.48
C19: 肖本兴 | D19: 58 | E19: =VLOOKUP(C19,[1]面试成绩统计表!$C$5:$M$26,11,0) -> 85.2 | F19: =ROUND(D19*0.4+E19*0.6,2) -> 74.32
C20: 刘军 | D20: 62 | E20: =VLOOKUP(C20,[1]面试成绩统计表!$C$5:$M$26,11,0) -> 74.6 | F20: =ROUND(D20*0.4+E20*0.6,2) -> 69.56
A21: 6 | B21: 云南陆东煤矿有限公司副总经理 | C21: 朱林飞 | D21: 67.5 | E21: =VLOOKUP(C21,[1]面试成绩统计表!$C$5:$M$26,11,0) -> 88.88 | F21: =ROUND(D21*0.4+E21*0.6,2) -> 80.33
C22: 杨红 | D22: 63.5 | E22: =VLOOKUP(C22,[1]面试成绩统计表!$C$5:$M$26,11,0) -> 86.6 | F22: =ROUND(D22*0.4+E22*0.6,2) -> 77.36
C23: 闻岗 | D23: 59.5 | E23: =VLOOKUP(C23,[1]面试成绩统计表!$C$5:$M$26,11,0) -> 83.26 | F23: =ROUND(D23*0.4+E23*0.6,2) -> 73.76
A24: 7 | B24: 富源县营上镇顺源煤矿有限公司 副总经理 | C24: 张波 | D24: 68 | E24: =VLOOKUP(C24,[1]面试成绩统计表!$C$5:$M$26,11,0) -> 89.4 | F24: =ROUND(D24*0.4+E24*0.6,2) -> 80.84
C25: 李岳佳 | D25: 65 | E25: =VLOOKUP(C25,[1]面试成绩统计表!$C$5:$M$26,11,0) -> 85.4 | F25: =ROUND(D25*0.4+E25*0.6,2) -> 77.24
C26: 李红军 | D26: 53.5 | E26: =VLOOKUP(C26,[1]面试成绩统计表!$C$5:$M$26,11,0) -> 82 | F26: =ROUND(D26*0.4+E26*0.6,2) -> 70.6
